BEGIN:VCALENDAR
VERSION:2.0
PRODID:-//MariNH₃ - ECPv6.15.20//NONSGML v1.0//EN
CALSCALE:GREGORIAN
METHOD:PUBLISH
X-WR-CALNAME:MariNH₃
X-ORIGINAL-URL:https://marinh3.ac.uk
X-WR-CALDESC:Events for MariNH₃
REFRESH-INTERVAL;VALUE=DURATION:PT1H
X-Robots-Tag:noindex
X-PUBLISHED-TTL:PT1H
BEGIN:VTIMEZONE
TZID:Europe/London
BEGIN:DAYLIGHT
TZOFFSETFROM:+0000
TZOFFSETTO:+0100
TZNAME:BST
DTSTART:20220327T010000
END:DAYLIGHT
BEGIN:STANDARD
TZOFFSETFROM:+0100
TZOFFSETTO:+0000
TZNAME:GMT
DTSTART:20221030T010000
END:STANDARD
BEGIN:DAYLIGHT
TZOFFSETFROM:+0000
TZOFFSETTO:+0100
TZNAME:BST
DTSTART:20230326T010000
END:DAYLIGHT
BEGIN:STANDARD
TZOFFSETFROM:+0100
TZOFFSETTO:+0000
TZNAME:GMT
DTSTART:20231029T010000
END:STANDARD
BEGIN:DAYLIGHT
TZOFFSETFROM:+0000
TZOFFSETTO:+0100
TZNAME:BST
DTSTART:20240331T010000
END:DAYLIGHT
BEGIN:STANDARD
TZOFFSETFROM:+0100
TZOFFSETTO:+0000
TZNAME:GMT
DTSTART:20241027T010000
END:STANDARD
BEGIN:DAYLIGHT
TZOFFSETFROM:+0000
TZOFFSETTO:+0100
TZNAME:BST
DTSTART:20250330T010000
END:DAYLIGHT
BEGIN:STANDARD
TZOFFSETFROM:+0100
TZOFFSETTO:+0000
TZNAME:GMT
DTSTART:20251026T010000
END:STANDARD
END:VTIMEZONE
BEGIN:VEVENT
DTSTART;TZID=Europe/London:20240626T084500
DTEND;TZID=Europe/London:20240626T164500
DTSTAMP:20260423T101052
CREATED:20240206T151709Z
LAST-MODIFIED:20250618T095806Z
UID:1746-1719391500-1719420300@marinh3.ac.uk
SUMMARY:MariNH3 Conference 2024
DESCRIPTION:View the presentations and posters from the conference here\n\n\nOvercoming the key technical\, economic and social unknowns of using ammonia in shipping.\nMariNH3 is a £5.5m EPSRC-funded research programme. Two years into the five-year programme\, the 2024 conference will showcase the significant advances being made across the three themes of: \n\nAcceptance – overcoming the key issues around the acceptance of ammonia in commercial marine engines\nFundamentals – improving fundamental understanding of disruptive fuel\, combustion\, and emissions after-treatment solutions\nApplication – uncovering ideal applications for varying scales of marine propulsion.\n\nThe programme includes technical presentations\, Q&A sessions\, a poster exhibition showcasing additional areas of research\, as well as keynote addresses from leading experts in the field. \nThe conference is an opportunity for academics\, engineers and policymakers who have an interest in the use and development of green ammonia as a zero-carbon fuel to discuss the challenges and opportunities across the whole value chain. \nJoin this conference to:\n\nDevelop your understanding of the use and potential of green ammonia as a fuel\nHear from leading experts in the field and explore opportunities to collaborate on new projects\nGain insight to the market and requirements for new technology\, processes and legislation\nNetwork with engineers\, manufacturers\, tier 1 suppliers and OEMs\nMeet the MariNH3 research team from University of Nottingham\, University of Birmingham\, University of Brighton\, Cardiff University and STFC.\n\nProgramme\n \n  \nSpeakers\n\nFind out more about our conference speakers\n\nPresentations\n\nView the conference presentations and posters\n\nPrevious attendees\nDelegates from academia and industry joined the 2023 conference from a wide range of industries and organisations including: \nABL\nBabcock International Group\nBMT\nCLEOS\nCummins\nFlogas Britain\nHoriba Mira\nHybrid Marine Power\nIHI Europe\nInfineum\nJohnson Matthey\nLloyds Register\nLubrizol\nMAHLE Powertrain\nOctoply ltd\nOxford University\nRicardo \nWhat they said\nVery well organised\, good complementary mix of presenters and attendants. Small enough to make it easy to connect to others; big enough to hear other and new perspectives. \nVery informative and great to see so much progress in the first year. \nGood spread of topics\, from technical\, through health and safety to acceptance. \nVenue\nThe conference takes place at the Crowne Plaza Hotel in Nottingham. \nThe hotel is in the heart of Nottingham and easily accessible from the train station. It has its own 600 space car park. \n\nDirections and parking\nAccessibility statement\n\nAccommodation\nWe have secured preferential rates for a limited number of rooms at the Crowne Plaza Hotel for conference attendees on the night of 25 June. \n\n£145 B&B per night\nTo be fully pre-paid at the time of booking.\nRooms may be cancelled free of charge if cancelled more than 28 days prior to arrival.\n\nTo reserve your room at this rate\, book before 14 May 2024 by calling the hotel directly on (+44) 0115 936 9936 and referencing the MariNH3 / University of Nottingham allocation for 25 June.
URL:https://marinh3.ac.uk/event/conference-2024/
LOCATION:Crowne Plaza Hotel\, Wollaton Street\, Nottingham\, NG1 5RH\, United Kingdom
CATEGORIES:Conferences
ATTACH;FMTTYPE=image/jpeg:https://marinh3.ac.uk/wp-content/uploads/2024/02/busy-shipping-port-with-containers-trade-action.jpg
END:VEVENT
BEGIN:VEVENT
DTSTART;TZID=Europe/London:20230628T084500
DTEND;TZID=Europe/London:20230628T160000
DTSTAMP:20260423T101052
CREATED:20230223T100914Z
LAST-MODIFIED:20240206T151945Z
UID:917-1687941900-1687968000@marinh3.ac.uk
SUMMARY:MariNH3 Conference – June 2023
DESCRIPTION:MariNH3 is a 5-year research programme investigating the potential of clean\, green ammonia to fuel and decarbonise the long-haul shipping industry. In parallel to engineering the best technical solutions\, covering new and retrofit engines\, we aim to develop policy guidance and a regulatory framework which are ‘right first time’. \nJoin the MariNH3 conference to find out more about our progress and discoveries across the three programme themes: \n\nAcceptance: Overcoming barriers to green ammonia adoption\nFundamentals: Improving understanding of disruptive fuel\, combustion and emissions\nApplication: Ideal applications for varying scales of marine propulsion\n\nWho is it for?\nWe welcome attendees from industry and academia\, from the road\, air and rail sectors\, as well as maritime\, and those who have an interest in developing green ammonia-fuelled engines. \nRegister\n\nReserve your free place on Eventbrite here\n\nThe programme\n \n  \nTravelling to the conference centre\nBy car \nThe Jubilee Conference Centre is easy to access by car. Use Sat Nav NG7 2TU. \nBy train \nNottingham Train Station is 40 minute walk from the conference centre. \nLocal taxi firms\, if required\, include: \n\nDG Cars (0115 9 500 500 / 0115 9 607 607)\nMy Cars (0115 9 199 999)\nNottingham Cars (0115 9 700 700)\n\nParking\nFree parking is available onsite at the Jubilee campus\, but you will need to display a parking permit. Registered delegates will be issued with a parking permit ahead of the event. Display your parking voucher face-up in a prominent position on the inside of the inside of the windscreen where all details can be clearly read from the outside of the vehicle. Please note\, failure to display a voucher as detailed will result in a civil parking notice being issued. \nHotels\nThe Jubilee Conference Centre Hotel offers a number of rooms on site. Find out more
URL:https://marinh3.ac.uk/event/marinh3-2023/
LOCATION:Jubilee Conference Centre\, Triumph Road\, Nottingham\, NG7 2TU
CATEGORIES:Conferences
ATTACH;FMTTYPE=image/jpeg:https://marinh3.ac.uk/wp-content/uploads/2022/11/cargo-ship-bow.jpg
END:VEVENT
END:VCALENDAR