BEGIN:VCALENDAR
VERSION:2.0
PRODID:-//MariNH₃ - ECPv6.15.20//NONSGML v1.0//EN
CALSCALE:GREGORIAN
METHOD:PUBLISH
X-ORIGINAL-URL:https://marinh3.ac.uk
X-WR-CALDESC:Events for MariNH₃
REFRESH-INTERVAL;VALUE=DURATION:PT1H
X-Robots-Tag:noindex
X-PUBLISHED-TTL:PT1H
BEGIN:VTIMEZONE
TZID:Europe/London
BEGIN:DAYLIGHT
TZOFFSETFROM:+0000
TZOFFSETTO:+0100
TZNAME:BST
DTSTART:20240331T010000
END:DAYLIGHT
BEGIN:STANDARD
TZOFFSETFROM:+0100
TZOFFSETTO:+0000
TZNAME:GMT
DTSTART:20241027T010000
END:STANDARD
BEGIN:DAYLIGHT
TZOFFSETFROM:+0000
TZOFFSETTO:+0100
TZNAME:BST
DTSTART:20250330T010000
END:DAYLIGHT
BEGIN:STANDARD
TZOFFSETFROM:+0100
TZOFFSETTO:+0000
TZNAME:GMT
DTSTART:20251026T010000
END:STANDARD
BEGIN:DAYLIGHT
TZOFFSETFROM:+0000
TZOFFSETTO:+0100
TZNAME:BST
DTSTART:20260329T010000
END:DAYLIGHT
BEGIN:STANDARD
TZOFFSETFROM:+0100
TZOFFSETTO:+0000
TZNAME:GMT
DTSTART:20261025T010000
END:STANDARD
BEGIN:DAYLIGHT
TZOFFSETFROM:+0000
TZOFFSETTO:+0100
TZNAME:BST
DTSTART:20270328T010000
END:DAYLIGHT
BEGIN:STANDARD
TZOFFSETFROM:+0100
TZOFFSETTO:+0000
TZNAME:GMT
DTSTART:20271031T010000
END:STANDARD
END:VTIMEZONE
BEGIN:VEVENT
DTSTART;VALUE=DATE:20250617
DTEND;VALUE=DATE:20250618
DTSTAMP:20260422T234016
CREATED:20250615T153533Z
LAST-MODIFIED:20250618T095643Z
UID:2158-1750118400-1750204799@marinh3.ac.uk
SUMMARY:MariNH3 Conference 2025
DESCRIPTION:View the presentations and posters from the conference at:\n> MariNH3 Conference Presentations 2025 \n\nSponsored by: \nMariNH3 is a £5.5m EPSRC-funded research programme focused on overcoming the key technical\, economic and social unknowns of using ammonia in shipping.\nNow over half way through its five-year term\, the 2025 conference will showcase the significant advances being made across the three themes of: \n\nAcceptance – overcoming the key issues around the acceptance of ammonia in commercial marine engines\nFundamentals – improving fundamental understanding of disruptive fuel\, combustion\, and emissions after-treatment solutions\nApplication – uncovering ideal applications for varying scales of marine propulsion.\n\nThe programme includes technical presentations\, a poster exhibition and keynote addresses from leading experts in the field. It is an opportunity for academics\, engineers\, policymakers  and anyone with an interest in the use and development of green ammonia as a zero-carbon fuel to discuss the challenges and opportunities across the whole value chain. \nJoin this conference to:\n\nDevelop your understanding of the use and potential of green ammonia as a fuel\nHear from leading experts in the field and discover the significant technical challenges that have already been overcome – and what remains\nGain insight to the market and requirements for new technology\, processes and legislation\nNetwork with academics\, engineers\, manufacturers\, OEMs and policy makers/advisors and explore opportunities to collaborate on new projects\nMeet the MariNH3 research team from University of Nottingham\, University of Birmingham\, University of Brighton\, Cardiff University and STFC.\n\nProgramme\n \n  \nKeynote speakers\n\nJonathan Hall\, Head of Research and Advanced Engineering\, MAHLE Powertrain\nDr Mike Rendall\, Chief Technology Officer – Hydrogen & Fuel Processing\, AFC Energy\nDr Richard Osborne\, Global Technical Expert – Sustainable Engines\, Ricardo plc\nEd Newman\, Chief Engineer – Clean Air Power\n\n\nView our speaker profiles\n\nPrevious attendees\nDelegates from academia and industry have joined our previous conferences from a wide range of industries and organisations including: \n\n\n\nABL\nFlogas Britain\n Lloyds Register\n\n\nAFC Energy\nHoriba Mira\nLubrizol\n\n\nBabcock International\nHybrid Marine Power\nMAHLE Powertrain\n\n\nBMT\nIHI Europe\nOctoply Ltd\n\n\nBP\nInfineum\nOxford University\n\n\nCummins\nJohnson Matthey\nRicardo\n\n\n\nVenue & Directions\nThe conference takes place at the East Midlands Conference Centre on the University of Nottingham’s University Park campus (NG7 2RJ). It is just a 10 minute drive from J25 of the M1 and is centrally located in Nottingham\, with convenient rail links to London. \nIt is easily accessible from the train station\, has its own car park\, EV charge points and nearby tram links. It is adjacent to the Orchard Hotel for overnight stays. \nImportant: If you are driving we recommend you use the West Entrance to University Park (off Woodside Road).  National Highways are carrying out significant roadworks on the A52 around University Park. To prevent drivers using University Park campus as a short cut to bypass any traffic\, barriers are in place across the campus which may make access difficult unless you use the West Entrance. See campus map here \nAbout our sponsor\nCIMAC is the leading global non-profit association promoting the development of ship propulsion\, train drive and power generation. \nCIMAC UK provides a forum for technical interchange\, bringing together manufacturers of diesel and gas engines and gas turbines\, users such as shipowners\, utilities and rail operators and also suppliers\, oil companies\, classification societies and scientists. Membership represents an excellent opportunity to meet like-minded individuals with an interest in large engines.  Find out more at https://cimacnma.uk/
URL:https://marinh3.ac.uk/event/conference-2025/
LOCATION:East Midlands Conference Centre\, Beeston\, Nottingham\, NG7 2RJ\, United Kingdom
CATEGORIES:Conferences
ATTACH;FMTTYPE=image/jpeg:https://marinh3.ac.uk/wp-content/uploads/2024/12/718.jpg
END:VEVENT
BEGIN:VEVENT
DTSTART;TZID=Europe/London:20260617T090000
DTEND;TZID=Europe/London:20260617T153000
DTSTAMP:20260422T234016
CREATED:20251204T084156Z
LAST-MODIFIED:20260409T101506Z
UID:2420-1781686800-1781710200@marinh3.ac.uk
SUMMARY:MariNH3 Conference 2026
DESCRIPTION:Supported by: \n \n\nNow in its fourth year\, the EPSRC-funded MariNH3 programme is delivering transformative progress toward the adoption of green ammonia as a zero-carbon marine fuel.\nRecent breakthroughs include advances in engine combustion\, emissions after-treatment and control strategies that enable clean\, efficient mono-fuel ammonia operation. New test rigs and simulation tools are deepening emissions understanding and supporting real-world scalability\, while emerging spin-out projects and global industry partnerships are expanding the impact of the research. \nAlongside this progress\, MariNH3 is identifying key barriers to adoption and shaping the future landscape through position papers and forthcoming whitepapers. With challenges such as cold start and enhanced safety still to solve\, the next phase will explore advanced engine cycles and deliver a roadmap for future ammonia propulsion research. \n\nJoin us at the 2026 conference to find out more.\n\nWhy attend the MariNH3 conference?\n\nBuild a clear understanding of green ammonia’s potential as a marine fuel\nHear from leading experts on technical breakthroughs—and what’s still ahead\nGain insight into market needs\, technology development and emerging regulation\nConnect with academics\, engineers\, OEMs\, manufacturers and policymakers\nMeet the MariNH3 research teams from the Universities of Nottingham\, Birmingham\, Brighton\, Cardiff and the Science and Technology Facilities Council (STFC)\n\nProgramme\nReserve your free place\n \n\nVenue & Directions\nThe conference takes place at the East Midlands Conference Centre on the University of Nottingham’s University Park campus (NG7 2RJ). It is just a 10 minute drive from J25 of the M1 and is centrally located in Nottingham\, with convenient rail links to London. \nIt is easily accessible from the train station\, has its own car park\, EV charge points and nearby tram links. It is adjacent to the Orchard Hotel for overnight stays. \nPreferential rate for the Orchard Hotel\nWe have secured a number of rooms at the Orchard Hotel\, next door to the East Midlands Conference Centre\, at the preferential rate of £150 per night for sole occupancy with bed & breakfast for the night of 16 June. This rate is available for rooms booked by 16 April. \n\nUse this link to access the Orchard Hotel preferential rate for MariNH3 delegates (opens in new tab).\nFor detailed instructions on how to complete your booking\, refer to the instructions here: MariNH3 Conference – how to book and claim the group rate\n\nOur supporters\nThank you to our supporters who enable us to bring the conference to you as a free event. \n \nCIMAC is the leading global non-profit association promoting the development of ship propulsion\, train drive and power generation. CIMAC UK provides a forum for technical interchange\, bringing together manufacturers of diesel and gas engines and gas turbines\, users such as shipowners\, utilities and rail operators and also suppliers\, oil companies\, classification societies and scientists. Membership represents an excellent opportunity to meet like-minded individuals with an interest in large engines. \nCambustion provides powertrain engineering services and specialist emission measurement instruments\, with a particular focus on the automotive industry. Cambustion’s ultra-fast response exhaust gas and particle analysers allow measurement of particles and a range of gas emissions during engine transient operation including from within a single exhaust stroke.
URL:https://marinh3.ac.uk/event/conference-2026/
LOCATION:East Midlands Conference Centre\, Beeston\, Nottingham\, NG7 2RJ\, United Kingdom
ATTACH;FMTTYPE=image/jpeg:https://marinh3.ac.uk/wp-content/uploads/2025/11/iStock-2239165059.jpg
END:VEVENT
END:VCALENDAR